BEGIN:VCALENDAR
VERSION:2.0
PRODID:-//wp-events-plugin.com//7.2.3.1//EN
BEGIN:VEVENT
UID:8@scout.am
DTSTART:20220325T050000Z
DTEND:20220327T140000Z
DTSTAMP:20221008T171726Z
URL:https://scout.am/activities/wintercamp22
SUMMARY:Եռօրյա Բանակում
DESCRIPTION:Արալեզի սկաուտական խումբը կազմակե
 րպում է Եռօրյա բանակում՝ խմբի բոլոր անդա
 մների համար:\n Բանակումին մասնակցելու հա
 մար նախօրոք գրանցվելը պարտադիր է\nԲանակո
 ւմի մասնակցության արժեքն է` 5000 դրամ\nԲանա
 կումին թույլատրվում են միայն հետևյալներ
 ը.\n-1 քնապարկ\n-1 ուսապարկ՝ Ճամպրուկ խստիվ 
 արգելվում է\nԿշարժվենք Արաբկիրի հայորդյ
 աց տան մոտից` 25/03/2022թ․ ժամը 9-ին Արաբկիրի 
 Հայրոդյաց Տան դեմից\nՎերադարձ՝ 27/03/2022թ․\n
ATTACH;FMTTYPE=image/jpeg:https://scout.am/wp-content/uploads/2022/09/2746
 25574_153116900479156_547213628159125073_n.jpg
CATEGORIES:Բանակում,Ձմեռային
LOCATION:ԱՐԱԼԵԶ Կենտրոն\, Մամիկոնյանց 58\, Երևա
 ն\, 0051\, Armenia
X-APPLE-STRUCTURED-LOCATION;VALUE=URI;X-ADDRESS=Մամիկոնյանց 58\,
  Երևան\, 0051\, Armenia;X-APPLE-RADIUS=100;X-TITLE=ԱՐԱԼԵԶ Կե
 նտրոն:geo:0,0
END:VEVENT
END:VCALENDAR