BEGIN:VCALENDAR
VERSION:2.0
PRODID:-//wp-events-plugin.com//7.2.3.1//EN
BEGIN:VEVENT
UID:143@scout.am
DTSTART:20260424T120000Z
DTEND:20260424T143000Z
DTSTAMP:20260422T095334Z
URL:https://scout.am/activities/tsitsernakaberd
SUMMARY:Այց Ծիծեռնակաբերդ
DESCRIPTION:Ինչպես ամեն տարի\, այս տարի ևս Հայա
 ստանում և աշխարհում միլիոնավոր հայեր\, ն
 աև բազմաթիվ այլազգիներ կհարգեն Ցեղասպան
 ության զոհերի հիշատակը:\n\nԱպրիլի 24-ին ժ.16:
 00 «Արալեզ»-ի կառույցները\, անդամները սկա
 ուտական խմբերն ու աջակիցներն այս տարի ևս
  միասնաբար կայցելեն Ծիծեռնակաբերդի հուշ
 ահամալիր` իրենց հարգանքի տուրքը մատուցե
 լու Հայոց Ցեղասպանության ընթացքում վասն
  հավատի և վասն հայրենյաց սուրբ նահատակնե
 րի հիշատակին\, ովքեր ցանկանում են միանալ 
 խնդրում ենք ներկա լինել Արալեզ կենտրոնո
 ւմ ժ.16:00-ին։Հարցերի դեպքում կարող եք զանգ
 ահարել՝ 033 990423\n\n[scout_registration]
ATTACH;FMTTYPE=image/jpeg:https://scout.am/wp-content/uploads/2026/04/Apri
 l24.webp
CATEGORIES:Բնապահպանական
 Ծրագրեր,Հայրենասիրական
LOCATION:Ծիծեռնակաբերդ\, 8\, 8 Ծիծեռնակաբերդ \, Y
 erevan\, 0028\, Armenia
X-APPLE-STRUCTURED-LOCATION;VALUE=URI;X-ADDRESS=8\, 8 Ծիծեռնակաբ
 երդ \, Yerevan\, 0028\, Armenia;X-APPLE-RADIUS=100;X-TITLE=Ծիծեռն
 ակաբերդ:geo:0,0
END:VEVENT
END:VCALENDAR