BEGIN:VCALENDAR
VERSION:2.0
PRODID:-//wp-events-plugin.com//7.2.3.1//EN
BEGIN:VEVENT
UID:32@scout.am
DTSTART:20231126T083000Z
DTEND:20231126T093000Z
DTSTAMP:20231021T113057Z
URL:https://scout.am/activities/scout-oath-ceremony-2023
SUMMARY:Երդման Արարողություն
DESCRIPTION:ԱՐԱԼԵԶ Սկաուտական խմբի անդամների 
 երդմնակալության արարողությունը ամենաշա
 տ սպասված ծրագիրն է սկաուտների համար\, ով
 քեր բոլորի՝ սկաուտների\, ծնողների և հյու
 րերի ներկայությամբ պաշտոնապես դառնում ե
 ն սկաուտ\, միանալով աշխարհում ավելի քան 50
 '000'000 սկաուտներին:\n\nՍկաուտը կատարում է հ
 ետևյալ երդումը:\n\nԵրդվում եմ պատվովս՝ հա
 վատարիմ լինել Աստծուս\, ազգիս և հայրենիք
 իս: Միշտ օգնել ուրիշներին և գործել որպես 
 պարտականությանս գիտակից\, արի և վեհանձն 
 մարդ: Հնազանդվել հայ Սկաուտի/Արենուշի դա
 վանանքին:\n\nԻսկ սկաուտի դավանանքներն են՝
 \n\n 	Սկաուտի խոսքը նվիրական է:\n 	Սկաուտը հ
 նազանդ է:\n 	Սկաուտը հավատարիմ և ուղղամիտ 
 է:\n 	Սկաուտը միշտ օգնում է ուրիշներին:\n 	Ս
 կաուտը բարեկամ է բոլորին և եղբայր բոլոր 
 սկաուտներին:\n 	Սկաուտը բարեկիրթ է:\n 	Սկաո
 ւտը մաքուր հայերեն է խոսում բոլորի հետ և 
 ամեն տեղ:\n 	Սկաուտը սիրում\, պաշտպանում է 
 կենդանիներն ու բույսերը:\n 	Սկաուտը միշտ 
 զվարթ ու խանդավառ է:\n 	Սկաուտը աշխատասեր 
 և կորովի է:\n 	Սկաուտը տնտեսող է:\n 	Սկաուտը
  մաքուր է մտքերով\, խոսքով և գործով:\n\nՍկա
 ուտական երդման արարողությանը կարող են մ
 ասնակցել միայն այն սկաուտները ովքեր հան
 դիսանում են Առաջին կարգի աստիճանավորում
 ը:\n\n&nbsp\;\n\n&nbsp\;
ATTACH;FMTTYPE=image/jpeg:https://scout.am/wp-content/uploads/2023/10/Scou
 t-oath-ceremony.webp
CATEGORIES:Հավաքներ
LOCATION:ԱՐԱԼԵԶ Կենտրոն\, Մամիկոնյանց 58\, Երևա
 ն\, 0051\, Armenia
X-APPLE-STRUCTURED-LOCATION;VALUE=URI;X-ADDRESS=Մամիկոնյանց 58\,
  Երևան\, 0051\, Armenia;X-APPLE-RADIUS=100;X-TITLE=ԱՐԱԼԵԶ Կե
 նտրոն:geo:0,0
END:VEVENT
END:VCALENDAR