BEGIN:VCALENDAR
VERSION:2.0
PRODID:-//wp-events-plugin.com//7.2.3.1//EN
BEGIN:VEVENT
UID:41@scout.am
DTSTART:20240127T150000Z
DTEND:20240128T100000Z
DTSTAMP:20240415T075315Z
URL:https://scout.am/activities/onedaycamp2024
SUMMARY:Միօրյա Բանակում
DESCRIPTION:Սկաուտների և Արենուշների համար կա
 զմակերպվում է միօրյա Բանակում Արալեզ Կե
 նտրոնում՝ Շաբաթ օրը 27/01/2024-ին ժամը 19:00-ից 
 մինչև 28/01/2024 ժամը 14:00-ը\n\nԲանակումի ընթացք
 ում ունենալու ենք բազմաթիվ հայտագրեր և գ
 իշերը բոլոր սկաուտներս նայելու ենք Կինո:
 \nՄասնակցության Պայմանները:\n\n 	Ներկայանա
 լ ամբողջական համազգեստով\n 	Գրանցվել ծրա
 գրին\n 	Ունենալ ներքևում նշված պարագաներ
 ը\n\n
ATTACH;FMTTYPE=image/jpeg:https://scout.am/wp-content/uploads/2024/01/OneD
 ay-Camp-2024.webp
CATEGORIES:Բանակում,Հավաքներ,Ձմեռային
LOCATION:ԱՐԱԼԵԶ Կենտրոն\, Մամիկոնյանց 58\, Երևա
 ն\, 0051\, Armenia
X-APPLE-STRUCTURED-LOCATION;VALUE=URI;X-ADDRESS=Մամիկոնյանց 58\,
  Երևան\, 0051\, Armenia;X-APPLE-RADIUS=100;X-TITLE=ԱՐԱԼԵԶ Կե
 նտրոն:geo:0,0
END:VEVENT
END:VCALENDAR