BEGIN:VCALENDAR
VERSION:2.0
PRODID:-//wp-events-plugin.com//7.2.3.1//EN
BEGIN:VEVENT
UID:49@scout.am
DTSTART:20240421T150000Z
DTEND:20240421T180000Z
DTSTAMP:20240504T113602Z
URL:https://scout.am/activities/candlevigil2024
SUMMARY:Մոմավառություն Կարապի լճում
DESCRIPTION:Ոգեկոչում ըստ անունների և ազգանու
 նների\n\nՄեծ եղեռնի 109-րդ տարելիցին ընդառա
 ջ\, ինչպես անցյալ տարիներին\, այս տարի նու
 յնպես իրականացնելու ենք Մոմավառություն 
 ի հիշատակ հայոց ցեղասպանության ընթացքու
 մ վասն հավատի և վասն Հայրենյաց մեր սուրբ 
 նահատակների հիշատակին:\n\nԱրալեզ Հայաստա
 նի Սկաուտական խմբի նախաձեռնությամբ\, շար
 ունակվում է հավաքագրվել Մեծ եղեռնի նահա
 տակների անուններն ու ազգանունները և առ ն
 րանց ոգիների հանգստության մոմավառությո
 ւն է կազմակերպվում...\n\nՍիրով սպասում ենք 
 բոլորիդ Կարապի լճի տարածքում՝ ապրիլի 21-ի
 ն\, ժամը 19:00-ին:\nՄոմավառության ընթացքում 
 հիշատակվելու են 1915 թվականի Եղեռնի նահատ
 ակների անուններն ու ազգանունները՝ անվան
 ական մոմեր իջեցնելով Կարապի լճում:\nՆախք
 ան Մոմավառության սկսելը\, Սրբազան Հոր գլ
 խավորությամբ միասնաբար աղոթք կասենք առ 
 անմեղ նահատակների ոգիների հանգստության 
 և աշխարհի խաղաղության համար:\n\n&nbsp\;\n\n&nbsp\;
 \n\nhttps://aralez.org/projects/candlevigil/
ATTACH;FMTTYPE=image/jpeg:https://scout.am/wp-content/uploads/2024/04/Cand
 le-vigil-cover.webp
CATEGORIES:Հայրենասիրական
LOCATION:https://maps.app.goo.gl/YzsBsAbENTkMVbiP9
END:VEVENT
END:VCALENDAR